BEGIN:VCALENDAR
VERSION:2.0
CREATED:20260422T230924
METHOD:PUBLISH
BEGIN:VEVENT
PRODID:Live Nation Entertainment
UID:20260422T230924-1745600834-
DTSTAMP:20260422T230924
DTSTART:20260505T210000Z
SUMMARY:Live Nation Entertainment First Quarter 2026 Earnings Call
DESCRIPTION:Live Nation Entertainment First Quarter 2026 Earnings Call\n\nDate: May 5, 2026 • 2:00pm PDT\n\nWebcast: https://event.choruscall.com/mediaframe/webcast.html?webcastid=hEwvDoPq\n\n
END:VEVENT
END:VCALENDAR
